BEGIN:VCALENDAR
VERSION:2.0
PRODID:icalendar-ruby
CALSCALE:GREGORIAN
METHOD:PUBLISH
BEGIN:VEVENT
DTSTAMP:20260424T220907Z
UID:30-282664@elimfoursquare.org
DTSTART:20260503T170000Z
DTEND:20260503T190000Z
CLASS:PUBLIC
CREATED:20260424T131158
DESCRIPTION:For more information\, please contact the church office.
LAST-MODIFIED:20260424T131158
LOCATION:
SUMMARY:Church Lunch!
URL;VALUE=URI:https://elimfoursquare.org/events/church-lunch/2026-05-03
ATTACH;FILENAME=Sunday-Lunch-at-Church-SLAC-1024x576.png;FMTTYPE=image/png:
 https://dq5pwpg1q8ru0.cloudfront.net/2025/02/06/21/11/28/a98f7460-3771-4cb
 0-aedc-59a76b73f5c6/Sunday-Lunch-at-Church-SLAC-1024x576.png
END:VEVENT
END:VCALENDAR
